BEGIN:VCALENDAR
VERSION:2.0
PRODID:-//hacksw/handcal//NONSGML v1.0//EN
BEGIN:VEVENT
SUMMARY:Fete du club
UID:aba5fd8a-230f-4733-b5c0-775a83239880
DTSTART:20260626T220000Z
DTEND:20260627T220000Z
LOCATION:Localisation Saint-Exupery rue Brachedal 60240 Chaumont en Vexin
CATEGORIES:Sportif
STATUS:
DESCRIPTION:<p><u><span style="font-size:18px;"><strong>Fete du club
 :</strong></span></u></p>
 
 <p><span style="font-size:12px;">Echange
 parents / enfants </span></p>
 
 <p><span
 style="font-size:12px;">Repas du club</span></p>
 
 <p> </p>
URL;VALUE=URI:https://escrime-chaumont-vexin-thelle.sportsregions.fr/evenements/2026/06/27/fete-du-club-2429043
END:VEVENT
END:VCALENDAR
